BEGIN:VCALENDAR
PRODID:NingEventWidget-v1
VERSION:2.0
METHOD:PUBLISH
BEGIN:VEVENT
UID:4320450:Event:2608
DTSTAMP:20260425T143440Z
SUMMARY:Giant Flea Market & Community Health Fair
DESCRIPTION:Each year Hayes Manor hosts a Giant Flea Market as one of 
 our main fundraisers. We invite vendors and buyers from all over the t
 ristate area.\nThis time around we will be hosting a Community Health 
 Fair with an Alex's Lemonade Stand in honor of our residents.\nAll pro
 ceeds benefit the residents of Hayes Manor\n\nFor more information vis
 it http://phillytodo.com/events/giant-flea-market-community
DTSTART:20101009T120000Z
DTEND:20101009T180000Z
CATEGORIES:flea, market
LOCATION:Hayes Manor
WEBSITE:http://www.facebook.com/profile.php?id=100001551060747&v=app_2
 344061033
URL:http://www.facebook.com/profile.php?id=100001551060747&v=app_23440
 61033
CONTACT:215-473-1552
ORGANIZER;CN="Hayes Manor":http://phillytodo.com/profile/HayesManor
ATTACH;FMTTYPE="image/jpeg":http://storage.ning.com/topology/rest/1.0/
 file/get/3054950681?profile=original
ATTENDEE;ROLE=REQ-PARTICIPANT;PARTSTAT=ACCEPTED;RSVP=TRUE;CN="Hayes Ma
 nor":http://phillytodo.com/profile/HayesManor
END:VEVENT
END:VCALENDAR
