BEGIN:VCALENDAR
PRODID:NingEventWidget-v1
VERSION:2.0
METHOD:PUBLISH
BEGIN:VEVENT
UID:4320450:Event:61287
DTSTAMP:20260425T130946Z
SUMMARY:Get Wise, Get Smart, Get Happy: The Empowerment of Wisdom Budd
 ha Prajnaparamita
DESCRIPTION:**This is a virtual event via Zoom livestream.  Please re
 gister at https://www.meditationinphiladelphia.org/prajnaparamita-emp
 owerment-2020/.**\n\nAn empowerment is a special guided meditation whe
 re we directly meet an enlightened being and come under their care and
  guidance. Prajnaparamita is a female enlightened wisdom Buddha. She h
 olds in her hand a scripture that is the Perfection of Wisdom Sutras,
  indicating she bestows the attainment of the union of great bliss and
  emptiness upon all beings. This attainment leads to the perfect joy a
 nd compassion of enlightenment.\nIn this empowerment, we will receive 
 powerful wisdom blessings and teachings from the Perfection of Wisdom
  Sutras to grant us deep insight into the truth of emptiness. We will
  then receive a daily emptiness practice so that our wisdom becomes mo
 re profound day after day until our mind is always filled with wisdom.
  This empowerment will be based on The Heart Sutra, given by Buddha, e
 xplained in the book The New Heart of Wisdom by Geshe Kelsang Gyatso
 .\n\nFor more information visit http://phillytodo.com/events/get-wise-
 get-smart-get-happy-the-empowerment-of-wisdom-buddha
DTSTART:20200926T150000Z
DTEND:20200926T193000Z
CATEGORIES:meditation, buddhism
LOCATION:Zoom livestream
WEBSITE:https://www.meditationinphiladelphia.org/prajnaparamita-empowe
 rment-2020/
URL:https://www.meditationinphiladelphia.org/prajnaparamita-empowermen
 t-2020/
CONTACT:267-702-3817
ORGANIZER;CN="Education Program Coordinator":http://phillytodo.com/pro
 file/EducationProgramCoordinator
ATTACH;FMTTYPE="image/jpeg":https://storage.ning.com/topology/rest/1.0
 /file/get/7908088463?profile=original
ATTENDEE;ROLE=REQ-PARTICIPANT;PARTSTAT=ACCEPTED;RSVP=TRUE;CN="Educatio
 n Program Coordinator":http://phillytodo.com/profile/EducationProgramC
 oordinator
END:VEVENT
END:VCALENDAR
