BEGIN:VCALENDAR
PRODID:NingEventWidget-v1
VERSION:2.0
METHOD:PUBLISH
BEGIN:VEVENT
UID:4320450:Event:5923
DTSTAMP:20260425T142814Z
SUMMARY:Get Lucky at The Urban Saloon - Win Phillies Opening Day Ticke
 ts!
DESCRIPTION:GET LUCKY IS BACK - 6th Annual Event!!  Come on out for S
 t Patrick's Day weekend and GET LUCKY.  Sign Up for Your Chance toWin
  Opening Day Phillies Tickets AND a FREE OPEN BAR for you and 50 FRI
 ENDS at Get Lucky!  Get ready for a great night out with friends!  
  RSVP and get:  Free Admission, your 1st drink FREE, awesome drink &
  shot specials, Jack Daniels games & prizes, giveaways & free stuff, S
 t Pats items, DJ & Dancing all night long, and much much more!  Come 
 dressed in GREEN and we will give you a free shot when you walk in! :)
   Presented By:  Philly Pours, Jack Daniels, Southern Comfort, and U
 pcomingEvents.com   This Event is FREE with registration and only $1
 0 if not on the guest list.  It's a great Erin Express alternative!\n
  \nhttp://www.UpcomingEvents.com/event/6912/ptodo/\n\nFor more inform
 ation visit http://phillytodo.com/events/get-lucky-at-the-urban-saloon
DTSTART:20110313T010000Z
DTEND:20110313T060000Z
CATEGORIES:"st.", "patty's", party
LOCATION:The Urban Saloon
WEBSITE:http://www.UpcomingEvents.com/event/6912/todo/
URL:http://www.UpcomingEvents.com/event/6912/todo/
CONTACT:
ORGANIZER;CN="UpcomingEvents.com":http://phillytodo.com/profile/Upcomi
 ngEventscom
ATTACH;FMTTYPE="image/jpeg":http://storage.ning.com/topology/rest/1.0/
 file/get/3054954322?profile=original
ATTENDEE;ROLE=REQ-PARTICIPANT;PARTSTAT=ACCEPTED;RSVP=TRUE;CN="Upcoming
 Events.com":http://phillytodo.com/profile/UpcomingEventscom
END:VEVENT
END:VCALENDAR
