BEGIN:VCALENDAR
PRODID:NingEventWidget-v1
VERSION:2.0
METHOD:PUBLISH
BEGIN:VEVENT
UID:4320450:Event:169703
DTSTAMP:20260425T114100Z
SUMMARY:Get Lit
DESCRIPTION:Get in the holiday spirit and join us for our 2nd annual h
 oliday decorating contest! Manayunk businesses are decking the street 
 and we need YOU to tell us who did it best! Voting will run from Nov. 
 18 - Dec. 15 with a press announcement of all winners being held on De
 c. 16.\n\nFor more information visit http://phillytodo.com/events/get-
 lit
DTSTART:20211216T220000Z
DTEND:20211217T000000Z
CATEGORIES:holiday, "fair/festival"
LOCATION:Main Street Manayunk
WEBSITE:http://manayunk.com/events/holidays-in-manayunk.html
URL:http://manayunk.com/events/holidays-in-manayunk.html
CONTACT:2672703075
ORGANIZER;CN="Manayunk Development Corporation":http://phillytodo.com/
 profile/ManayunkDevelopmentCorporation
ATTACH;FMTTYPE="image/jpeg":
ATTENDEE;ROLE=REQ-PARTICIPANT;PARTSTAT=ACCEPTED;RSVP=TRUE;CN="Manayunk
  Development Corporation":http://phillytodo.com/profile/ManayunkDevelo
 pmentCorporation
END:VEVENT
END:VCALENDAR
