BEGIN:VCALENDAR
PRODID:NingEventWidget-v1
VERSION:2.0
METHOD:PUBLISH
BEGIN:VEVENT
UID:4320450:Event:39514
DTSTAMP:20260425T125101Z
SUMMARY:Get in shape this New Year at dance class!
DESCRIPTION:Learn and experience modern dance technique in a weekly Tu
 esday night class  designed specifically for beginner students.\nTues
 day nights from 6:30-8pm January 6th – April 14th (no class 2/3) at
  the Performance Garage, 1515 Brandywine Street, Philadelphia, PA 191
 30\nSign up for the full 14 week session for a discounted price – mu
 st register by Sun 1/4 at midnight!\n$200 and $170 for students, seni
 ors and artists.\n$100 Installment Plan – 1st Payment due on Sun 1/4
  and 2nd Payment due on Tues 2/17.\nGo to www.invisibleriver.org to si
 gn up Sunday, January 4th at midnight!\nDrop-ins are $15, $12 for stud
 ents, seniors and artists\n\nFor more information visit http://phillyt
 odo.com/events/get-in-shape-this-new-year-at-dance-class
DTSTART:20150106T233000Z
DTEND:20150415T000000Z
CATEGORIES:dance, class
LOCATION:The Performance Garage
WEBSITE:http://www.invisibleriver.org
URL:http://www.invisibleriver.org
CONTACT:
ORGANIZER;CN="INVISIBLE RIVER":http://phillytodo.com/profile/invisible
 river
ATTACH;FMTTYPE="image/jpeg":http://storage.ning.com/topology/rest/1.0/
 file/get/3054983108?profile=original
ATTENDEE;ROLE=REQ-PARTICIPANT;PARTSTAT=ACCEPTED;RSVP=TRUE;CN="INVISIBL
 E RIVER":http://phillytodo.com/profile/invisibleriver
END:VEVENT
END:VCALENDAR
