BEGIN:VCALENDAR
PRODID:NingEventWidget-v1
VERSION:2.0
METHOD:PUBLISH
BEGIN:VEVENT
UID:4320450:Event:4097
DTSTAMP:20260425T142537Z
SUMMARY:George Hoessel
DESCRIPTION:The Preservation Alliance for Greater Philadelphia designs
  the Old House Fair to address an unmet need for the special expertise
 , goods and services that local homeowners need to meet the challenges
  of maintaining an old house. The Fair features over 70 vendor booths 
 and an array of learning opportunities for owners of the old house to 
 better maintain and restore their homes, including demonstrations, exp
 ert panels and other “hands on” assistance.\n \nOver 700 people a
 ttended our last Fair in 2010, and visitors’ reviews found that the 
 Fair helped to address their needs on how to and where to go for their
  specialized restoration and rehabilitation needs.  We know more peop
 le than ever will want to learn how to preserve, protect and enhance t
 heir existing homes.  Our experience indicates that 90% of attendees 
 at previous Fairs were actively planning or in the process of restorat
 ion or improvement work on their homes.\n \nGeneral Admission is $10
                   \n $5 for Preservation Alliance 
 Members                               
                                \n\nFor
  more information visit http://phillytodo.com/events/george-hoessel
DTSTART:20110326T130000Z
DTEND:20110326T210000Z
CATEGORIES:the, 2011, old, house, fair
LOCATION:Germantown Friends School
WEBSITE:http://preservationalliance.com/events/oldhousefair/oldhousefa
 ir.php
URL:http://preservationalliance.com/events/oldhousefair/oldhousefair.p
 hp
CONTACT:215-546-1146 x.7
ORGANIZER:The Preservation Alliance of Greater Philadelphia
ATTACH;FMTTYPE="image/jpeg":http://storage.ning.com/topology/rest/1.0/
 file/get/3054954611?profile=original
ATTENDEE;ROLE=REQ-PARTICIPANT;PARTSTAT=ACCEPTED;RSVP=TRUE;CN="George H
 oessel":http://phillytodo.com/profile/GeorgeHoessel
END:VEVENT
END:VCALENDAR
