BEGIN:VCALENDAR
PRODID:NingEventWidget-v1
VERSION:2.0
METHOD:PUBLISH
BEGIN:VEVENT
UID:4320450:Event:56332
DTSTAMP:20260425T123546Z
SUMMARY:Gem of the Ocean
DESCRIPTION:Set in 1904, this first installment of August Wilson’s T
 he American Century Cycle journeys to Pittsburgh’s Hill District an
 d tells a mystical story of freedom, justice and redemption.\n\nBy Aug
 ust Wilson\nDirected by James Ijames\nF. Otto Haas Stage\nExpected Run
 time: 2 hour and 30 minutes, with 1 intermission.\n\nFor more informat
 ion visit http://phillytodo.com/events/gem-of-the-ocean
DTSTART:20190227T190000Z
DTEND:20190331T230000Z
CATEGORIES:theatre
LOCATION:Arden Theatre Company
WEBSITE:https://ardentheatre.org/event/gem-of-the-ocean/2019-02-27/#ti
 ckets
URL:https://ardentheatre.org/event/gem-of-the-ocean/2019-02-27/#ticket
 s
CONTACT:215.922.1122
ORGANIZER;CN="Arden Theatre Company":http://phillytodo.com/profile/Ard
 enTheatreCompany
ATTACH;FMTTYPE="image/jpeg":http://storage.ning.com/topology/rest/1.0/
 file/get/3055016168?profile=original
ATTENDEE;ROLE=REQ-PARTICIPANT;PARTSTAT=ACCEPTED;RSVP=TRUE;CN="Arden Th
 eatre Company":http://phillytodo.com/profile/ArdenTheatreCompany
END:VEVENT
END:VCALENDAR
