BEGIN:VCALENDAR
PRODID:NingEventWidget-v1
VERSION:2.0
METHOD:PUBLISH
BEGIN:VEVENT
UID:4320450:Event:13602
DTSTAMP:20260425T141126Z
SUMMARY:Gary Papa Run
DESCRIPTION:In 2005, 6ABC Sportscaster Gary Papa joined the board of t
 he Foundation for Breat and Prostate Health and quickly devoted his ta
 lent and energy to generate prostate cancer awareness and research. Wh
 ile courageously and publicly fighting a six year battle with prostate
  cancer, Gary became the spokesperson for \"Run 4 Your Life\" and beca
 me the face of living with prostate cancer in the Philadelphia region.
 \n \nAlthough Gary lost his battle with prostate cancer in June 2009,
  we continue to honor his memory by renaming the race after his so tha
 t his dedication to our cause will never be forgotten.\n \nThe Gary P
 apa Run is a 5K run/walk and a 1 mile fun walk to benefit prostate can
 cer research and awareness. Join us this Fathers Day, June 19th, to sh
 ow your support! Registration is from 7AM - 8AM, and the 5K run starts
  at 8:30AM, followed by the 5K walk at 8:40AM and the 1 mile fun walk 
 at 8:45.\n\nFor more information visit http://phillytodo.com/events/ga
 ry-papa-run
DTSTART:20110619T110000Z
DTEND:20110619T150000Z
CATEGORIES:fundraiser, 5k, run
LOCATION:Eakins Oval - Philadelphia Art Museum
WEBSITE:http://www.garypaparun.com
URL:http://www.garypaparun.com
CONTACT:215-670-4323
ORGANIZER;CN="Courtney Craig":http://phillytodo.com/profile/CourtneyCr
 aig
ATTACH;FMTTYPE="image/jpeg":http://storage.ning.com/topology/rest/1.0/
 file/get/3054957924?profile=original
ATTENDEE;ROLE=REQ-PARTICIPANT;PARTSTAT=ACCEPTED;RSVP=TRUE;CN="Courtney
  Craig":http://phillytodo.com/profile/CourtneyCraig
END:VEVENT
END:VCALENDAR
