BEGIN:VCALENDAR
PRODID:NingEventWidget-v1
VERSION:2.0
METHOD:PUBLISH
BEGIN:VEVENT
UID:4320450:Event:33146
DTSTAMP:20260425T142809Z
SUMMARY:\"Garden State Radio\" Performs in Victory Beer Hall
DESCRIPTION:Start your weekend off right as \"Garden State Radio\" per
 forms live on the stage inside Victory Beer Hall.Contact parties@xfini
 tylive.com to add your name to the guest list and to book your VIP Par
 ty during the show.Free parking is available after 7:30pm.\n\nFor more
  information visit http://phillytodo.com/events/garden-state-radio-per
 forms-in-victory-beer-hall
DTSTART:20130720T000000Z
DTEND:20130720T060000Z
CATEGORIES:live, music
LOCATION:XFINITY Live! Philadelphia
WEBSITE:http://www.xfinitylive.com
URL:http://www.xfinitylive.com
CONTACT:215-609-1678
ORGANIZER;CN="Stepfanie McCaffrey":http://phillytodo.com/profile/Stepf
 anieMcCaffrey
ATTACH;FMTTYPE="image/jpeg":http://storage.ning.com/topology/rest/1.0/
 file/get/3054966830?profile=original
ATTENDEE;ROLE=REQ-PARTICIPANT;PARTSTAT=ACCEPTED;RSVP=TRUE;CN="Stepfani
 e McCaffrey":http://phillytodo.com/profile/StepfanieMcCaffrey
END:VEVENT
END:VCALENDAR
