BEGIN:VCALENDAR
PRODID:NingEventWidget-v1
VERSION:2.0
METHOD:PUBLISH
BEGIN:VEVENT
UID:4320450:Event:38269
DTSTAMP:20260425T175914Z
SUMMARY:Garden Shed: End of Season Garden Swap & Sale
DESCRIPTION:Shed your extra garden goodies at Greensgrow’s first Gar
 den Shed! Swap, barter, trade or sell your extra tools, plants, pots, 
 seeds, bulbs and books. We will have live bands, food trucks, the farm
 stand and lots of fun for all! Come see what treasures have been hidin
 g in the shed.\n\nVendors: Garden related items only!Price: $15 per 10
  foot space. Just purchase a ticket below to save your space.\n\nFor m
 ore details on vending your garden goods and to reserve a table:\nhttp
 ://www.greensgrow.org/event/garden-shed-end-of-season-garden-swap-sale
 /\n\nDonation Table\nWe will have a curated donation table for those o
 f you who would like to get rid of a few odds and ends but cannot part
 icipate in the event. You can drop off the morning of the event betwee
 n 10-11am. We will take useful items; plants in good health, tools in 
 good working order, etc. We probably won’t take broken pots, plastic
  containers (recycle those), etc.\n\nFor more information visit http:/
 /phillytodo.com/events/garden-shed-end-of-season-garden-swap-sale
DTSTART:20140927T140000Z
DTEND:20140927T190000Z
CATEGORIES:festival, fair
LOCATION:Greensgrow Farms
WEBSITE:http://www.greensgrow.org/event/garden-shed-end-of-season-gard
 en-swap-sale/
URL:http://www.greensgrow.org/event/garden-shed-end-of-season-garden-s
 wap-sale/
CONTACT:215-427-2702
ORGANIZER;CN="Greensgrow Farms":http://phillytodo.com/profile/Greensgr
 owFarms
ATTACH;FMTTYPE="image/jpeg":
ATTENDEE;ROLE=REQ-PARTICIPANT;PARTSTAT=ACCEPTED;RSVP=TRUE;CN="Greensgr
 ow Farms":http://phillytodo.com/profile/GreensgrowFarms
END:VEVENT
END:VCALENDAR
