BEGIN:VCALENDAR
PRODID:NingEventWidget-v1
VERSION:2.0
METHOD:PUBLISH
BEGIN:VEVENT
UID:4320450:Event:35903
DTSTAMP:20260425T161737Z
SUMMARY:Garden Planning Workshop
DESCRIPTION:Master Gardener Anna Herman, comes to Greensgrow to help y
 ou make the most of your space and to plan your garden’s transition 
 from season to season. Class will focus on planning for multiple harve
 sts from the same growing bed by utilizing succession and interplantin
 g techniques. Companion planting, crop rotation, soil health and best 
 crops for small spaces will all be covered.\n\nAnd we’ll give you st
 rategies for maximizing a harvest from your small edible garden throug
 hout the year. From using milk jug cloches to straw bale cold frames A
 nna will share practical strategies and proven techniques to extend yo
 ur growing season.   \nAnna is owner of the Backyard Farm School whe
 re she teaches about gardening, cooking and urban farming. She is a lo
 ng time backyard and community gardener, the coordinator of the Penn S
 tate Extension Philadelphia Master Gardener program, coordinator of th
 e Morris Arboretum Community Gardens, and Culinary Director of The Far
 m Kitchen at Awbury Arbortetum. She blogs at annasedibleadventures.org
 .\nRegister: http://www.greensgrow.org/event/garden-planning-workshop/
 \n\nFor more information visit http://phillytodo.com/events/garden-pla
 nning-workshop
DTSTART:20140412T160000Z
DTEND:20140412T180000Z
CATEGORIES:gardening, workshop
LOCATION:Greensgrow Farms
WEBSITE:http://www.greensgrow.org
URL:http://www.greensgrow.org
CONTACT:215-427-2702
ORGANIZER;CN="Greensgrow Farms":http://phillytodo.com/profile/Greensgr
 owFarms
ATTACH;FMTTYPE="image/jpeg":
ATTENDEE;ROLE=REQ-PARTICIPANT;PARTSTAT=ACCEPTED;RSVP=TRUE;CN="Greensgr
 ow Farms":http://phillytodo.com/profile/GreensgrowFarms
END:VEVENT
END:VCALENDAR
