BEGIN:VCALENDAR
PRODID:NingEventWidget-v1
VERSION:2.0
METHOD:PUBLISH
BEGIN:VEVENT
UID:4320450:Event:31639
DTSTAMP:20260425T141344Z
SUMMARY:Game Day and Comic Book Swap
DESCRIPTION:In honor of Free Comic Book Day, come to the library and s
 wap comic books and play your friends in a variety of games. For Teens
  and Tweens.\n\nFor more information visit http://phillytodo.com/event
 s/game-day-and-comic-book-swap
DTSTART:20130503T200000Z
DTEND:20130503T223000Z
CATEGORIES:comic, books
LOCATION:Location: Lansdowne Public Library
WEBSITE:http://lansdownepubliclibrary.com/
URL:http://lansdownepubliclibrary.com/
CONTACT:(610) 623-0239
ORGANIZER;CN="Lansdowne Public Library":http://phillytodo.com/profile/
 LansdownePublicLibrary
ATTACH;FMTTYPE="image/jpeg":http://storage.ning.com/topology/rest/1.0/
 file/get/3054965489?profile=original
ATTENDEE;ROLE=REQ-PARTICIPANT;PARTSTAT=ACCEPTED;RSVP=TRUE;CN="Lansdown
 e Public Library":http://phillytodo.com/profile/LansdownePublicLibrary
END:VEVENT
END:VCALENDAR
