BEGIN:VCALENDAR
PRODID:NingEventWidget-v1
VERSION:2.0
METHOD:PUBLISH
BEGIN:VEVENT
UID:4320450:Event:38495
DTSTAMP:20260425T142556Z
SUMMARY:Gallery Opening: Inhabiting the Edge
DESCRIPTION:Mary Mattingly’s WetLand is a mobile, sculptural habit
 at and public space constructed to explore resource interdependency an
 d climate change in urban centers.  In this gallery show, get an insi
 de look at the project, and the work of many collaborators who brought
  WetLand to life.  Mattingly will explore life onWetLand and the m
 oving edge of environmental art in the age of climate change at the an
 nual James Lecture earlier in the evening.\nInhabiting the Edge wil
 l be on display in the Schuylkill Center gallery through winter 2015.
 \nFree\n\nFor more information visit http://phillytodo.com/events/gall
 ery-opening-inhabiting-the-edge
DTSTART:20150129T013000Z
DTEND:20150129T030000Z
CATEGORIES:gallery, opening
LOCATION:The Schuylkill Center for Environmental Education
WEBSITE:http://www.schuylkillcenter.org/
URL:http://www.schuylkillcenter.org/
CONTACT:215-482-7300, x110
ORGANIZER;CN="The Schuylkill Center":http://phillytodo.com/profile/Ann
 aLehrMueser
ATTACH;FMTTYPE="image/jpeg":http://storage.ning.com/topology/rest/1.0/
 file/get/3054981787?profile=original
ATTENDEE;ROLE=REQ-PARTICIPANT;PARTSTAT=ACCEPTED;RSVP=TRUE;CN="The Schu
 ylkill Center":http://phillytodo.com/profile/AnnaLehrMueser
END:VEVENT
END:VCALENDAR
