BEGIN:VCALENDAR
PRODID:NingEventWidget-v1
VERSION:2.0
METHOD:PUBLISH
BEGIN:VEVENT
UID:4320450:Event:51971
DTSTAMP:20260425T125210Z
SUMMARY:Future of Philly Art- Breaking the Mold
DESCRIPTION:“Future of Philly-Art,” will be held Thursday, Septemb
 er 7, 2017 from 6-9pm in WeWork’s picturesque Northern Liberties loc
 ation. Future of Philly-Art will look at the unique intersection of Ph
 iladelphia’s long-standing practice of the arts based in academia. F
 ree and open to the public, the event will feature live art, an elite 
 panel of speakers, and cocktail reception. To RSVP please visit: https
 ://futureofphillyart.splashthat.com/\n\nFor more information visit htt
 p://phillytodo.com/events/future-of-philly-art-breaking-the-mold
DTSTART:20170907T220000Z
DTEND:20170908T010000Z
CATEGORIES:free, art-, panel, event
LOCATION:WeWork Northern Liberties
WEBSITE:https://futureofphillyart.splashthat.com/
URL:https://futureofphillyart.splashthat.com/
CONTACT:(215) 883-8131
ORGANIZER:WeWork Philadelphia
ATTACH;FMTTYPE="image/jpeg":
ATTENDEE;ROLE=REQ-PARTICIPANT;PARTSTAT=ACCEPTED;RSVP=TRUE;CN=CashmanAs
 soc:http://phillytodo.com/profile/CashmanAssoc
END:VEVENT
END:VCALENDAR
