BEGIN:VCALENDAR
PRODID:NingEventWidget-v1
VERSION:2.0
METHOD:PUBLISH
BEGIN:VEVENT
UID:4320450:Event:44909
DTSTAMP:20260425T114108Z
SUMMARY:Funnyman
DESCRIPTION:New York City, 1959. An aging vaudevillian comic, graspin
 g to remain relevant in the ever-changing world of “show biz,” tri
 es to revive his career with a starring turn in an avant-garde off-Bro
 adway play. Meanwhile his daughter struggles to uncover truths from he
 r childhood that her father would rather keep hidden. From Philadelphi
 a playwright Bruce Graham, author of three previous Arden works inclu
 ding the 7-time Barrymore Award-winning Something Intangible (2009),
  comes a new play about a man whose legacy is on the line and for who
 m comedy is serious business.  \n\nFor more information visit http://
 phillytodo.com/events/funnyman
DTSTART:20160116T010000Z
DTEND:20160307T000000Z
CATEGORIES:theater
LOCATION:Arden Theatre Company
WEBSITE:http://www.ardentheatre.org/
URL:http://www.ardentheatre.org/
CONTACT:(215) 922-1122
ORGANIZER;CN="Arden Theatre Company":http://phillytodo.com/profile/Ard
 enTheatreCompany
ATTACH;FMTTYPE="image/jpeg":http://storage.ning.com/topology/rest/1.0/
 file/get/3054993673?profile=original
ATTENDEE;ROLE=REQ-PARTICIPANT;PARTSTAT=ACCEPTED;RSVP=TRUE;CN="Arden Th
 eatre Company":http://phillytodo.com/profile/ArdenTheatreCompany
END:VEVENT
END:VCALENDAR
