BEGIN:VCALENDAR
PRODID:NingEventWidget-v1
VERSION:2.0
METHOD:PUBLISH
BEGIN:VEVENT
UID:4320450:Event:58706
DTSTAMP:20260425T142838Z
SUMMARY:Funkadelic Awakening: A Futuristic Resistance
DESCRIPTION:“The Funkadelic Awakening: A Futuristic Resistance” ex
 hibition features a collaboration between three artists: Donté K. Hay
 es, Salvador Jeménez-Flores, and Jennifer Ling Datchuk. Each artist s
 peaks to specific themes of resistance related to their personal journ
 ey within their cultural identity, using a fluid combination of ideals
  stemming from Futurism and/or Afro-Futurism. Together, each artist of
 fers viewers a fresh perspective on a pertinent but timeless conversat
 ion about eternal resistance and how that force can inspire radical wa
 ys of redefining oneself.\n\nFor more information visit http://phillyt
 odo.com/events/funkadelic-awakening-a-futuristic-resistance
DTSTART:20190607T150000Z
DTEND:20190607T220000Z
CATEGORIES:art
LOCATION:The Clay Studio
WEBSITE:http://www.theclaystudio.org/exhibitions/funkadelic-awakening
URL:http://www.theclaystudio.org/exhibitions/funkadelic-awakening
CONTACT:
ORGANIZER;CN="Bryan Chan":http://phillytodo.com/profile/BryanChan
ATTACH;FMTTYPE="image/jpeg":https://storage.ning.com/topology/rest/1.0
 /file/get/2504577799?profile=original
ATTENDEE;ROLE=REQ-PARTICIPANT;PARTSTAT=ACCEPTED;RSVP=TRUE;CN="Bryan Ch
 an":http://phillytodo.com/profile/BryanChan
END:VEVENT
END:VCALENDAR
