BEGIN:VCALENDAR
PRODID:NingEventWidget-v1
VERSION:2.0
METHOD:PUBLISH
BEGIN:VEVENT
UID:4320450:Event:54829
DTSTAMP:20260425T124848Z
SUMMARY:Fun Home
DESCRIPTION:Fun Home\nMusic by Jeanine TesoriBook and Lyrics by Lisa K
 ronBased on the Graphic Novel by Alison BechdelDirected by Terrence J.
  NolenOn the F. Otto Haas StageMAY 17 – JUNE 17, 2018Approximate Run
 time: 1 hour and 35 minutes\n \nHailed as one of Broadway's most orig
 inal musicals and winner of 5 Tony Awards, Fun Home is a groundbreakin
 g story inspired by Alison Bechdel's best-selling graphic memoir. Afte
 r the sudden death of her father, Alison sets out to unravel the many 
 mysteries of her childhood growing up at the family funeral home in Ce
 ntral Pennsylvania. Moving between past and present, Alison relives he
 r life through a series of memories and conversations - from her comin
 g out to her moving journey to acceptance. Featuring a gorgeous score 
 by Jeanine Tesori (Caroline, or Change) and brilliant book and lyrics 
 by Lisa Kron (2.5 Minute Ride), Fun Home is a refreshingly honest, mov
 ing new musical about seeing your parents through grown-up eyes.\n\nFo
 r more information visit http://phillytodo.com/events/fun-home-1
DTSTART:20180517T230000Z
DTEND:20180617T230000Z
CATEGORIES:theatre
LOCATION:Arden Theatre Company
WEBSITE:https://tickets.ardentheatre.org/Online/article/funhome
URL:https://tickets.ardentheatre.org/Online/article/funhome
CONTACT:(215) 922-1122
ORGANIZER;CN="Arden Theatre Company":http://phillytodo.com/profile/Ard
 enTheatreCompany
ATTACH;FMTTYPE="image/jpeg":http://storage.ning.com/topology/rest/1.0/
 file/get/3055011117?profile=original
ATTENDEE;ROLE=REQ-PARTICIPANT;PARTSTAT=ACCEPTED;RSVP=TRUE;CN="Arden Th
 eatre Company":http://phillytodo.com/profile/ArdenTheatreCompany
END:VEVENT
END:VCALENDAR
