BEGIN:VCALENDAR
PRODID:NingEventWidget-v1
VERSION:2.0
METHOD:PUBLISH
BEGIN:VEVENT
UID:4320450:Event:50607
DTSTAMP:20260425T143319Z
SUMMARY:Fun Fest! – A Free, Family-Friendly Event Where Kids are Kin
 g
DESCRIPTION:Fun Fest! The free, open-to-the-public event for kids an
 d families will feature children’s fitness classes, balloon animals,
  face painting, crafts, and Elmwood Park Zoo’s “Zoo on Wheels.” 
 The event will be held at 251 Dekalb, the upscale new apartment commu
 nity in King of Prussia. 251 Dekalb caters to growing families and off
 ers kid-focused amenities such as Kidville TM, a state-of-the-art ind
 oor play space for kids. Tours of the property will be available throu
 ghout the day.\n\n \nAttendees must register for a free ticket to g
 ain admittance into the event. Tickets can be purchased here: https:/
 /ca.ticketleap.com/  \n\nFor more information visit http://phillytod
 o.com/events/fun-fest-a-free-family-friendly-event-where-kids-are-king
DTSTART:20170722T150000Z
DTEND:20170722T180000Z
CATEGORIES:kids, and, families, event
LOCATION:251 Dekalb
WEBSITE:
URL:
CONTACT:2156271060
ORGANIZER:Cashman and Associates
ATTACH;FMTTYPE="image/jpeg":
ATTENDEE;ROLE=REQ-PARTICIPANT;PARTSTAT=ACCEPTED;RSVP=TRUE;CN=CashmanAs
 soc:http://phillytodo.com/profile/CashmanAssoc
END:VEVENT
END:VCALENDAR
