BEGIN:VCALENDAR
PRODID:NingEventWidget-v1
VERSION:2.0
METHOD:PUBLISH
BEGIN:VEVENT
UID:4320450:Event:35720
DTSTAMP:20260425T124855Z
SUMMARY:Full Bloom
DESCRIPTION:Artist Reception with Susan Melrath.  \n\nFor more inform
 ation visit http://phillytodo.com/events/full-bloom
DTSTART:20140308T160000Z
DTEND:20140308T180000Z
CATEGORIES:art
LOCATION:Bluestone Fine Art Gallery
WEBSITE:
URL:
CONTACT:http://www.bluestone-gallery.com
ORGANIZER;CN="Bluestone Fine Art Gallery":http://phillytodo.com/profil
 e/BluestoneFineArtGallery
ATTACH;FMTTYPE="image/jpeg":http://storage.ning.com/topology/rest/1.0/
 file/get/3054973763?profile=original
ATTENDEE;ROLE=REQ-PARTICIPANT;PARTSTAT=ACCEPTED;RSVP=TRUE;CN="Blueston
 e Fine Art Gallery":http://phillytodo.com/profile/BluestoneFineArtGall
 ery
END:VEVENT
END:VCALENDAR
