BEGIN:VCALENDAR
PRODID:NingEventWidget-v1
VERSION:2.0
METHOD:PUBLISH
BEGIN:VEVENT
UID:4320450:Event:53028
DTSTAMP:20260425T131035Z
SUMMARY:From Mine to Yours: Bernie Robbins Biggest Diamond Sale
DESCRIPTION:From Mine To Yours: Bernie Robbins Biggest Diamond Sale\nF
 riday, November 3rd and Saturday, November 4th\nFor two days only, Ber
 nie Robbins Jewelers is bringing in their diamond sources direct from 
 the mines in store. Buy direct from the mines and discover the largest
  selection of diamond at the lowest prices with no interest till 2019 
 and 50% off select mountings.\nLearn more at www.bernierobbins.com.\nĀ
  \n\nFor more information visit http://phillytodo.com/events/from-mine
 -to-yours-bernie-robbins-biggest-diamond-sale
DTSTART:20171103T040000Z
DTEND:20171105T035900Z
CATEGORIES:retail, sale
LOCATION:All Bernie Robbins Locations
WEBSITE:http://www.bernierobbins.com/eventdetails.cfm?page=from-mine-t
 o-yours-:-diamond-event
URL:http://www.bernierobbins.com/eventdetails.cfm?page=from-mine-to-yo
 urs-:-diamond-event
CONTACT:
ORGANIZER;CN=CashmanAssoc:http://phillytodo.com/profile/CashmanAssoc
ATTACH;FMTTYPE="image/jpeg":http://storage.ning.com/topology/rest/1.0/
 file/get/3055009789?profile=original
ATTENDEE;ROLE=REQ-PARTICIPANT;PARTSTAT=ACCEPTED;RSVP=TRUE;CN=CashmanAs
 soc:http://phillytodo.com/profile/CashmanAssoc
END:VEVENT
END:VCALENDAR
