BEGIN:VCALENDAR
PRODID:NingEventWidget-v1
VERSION:2.0
METHOD:PUBLISH
BEGIN:VEVENT
UID:4320450:Event:971
DTSTAMP:20260425T130920Z
SUMMARY:FROM CITY OF BROTHERLY  LOVE   TO    HAITI
DESCRIPTION:FROM CITY OF BROTHERLY  LOVE  \nTO\n   HAITI    \
 nwww.medicineinaction.org\nALL PROCEEDS GO TO MEDICINE IN ACTION\nMedi
 cal mission to Haiti\n\nTUESDAY FEBRUARY 2ND 2010  \n6:00 PM TO 2:00 
 AM\nRELIEFHAPPY HOUR 6:00 PM TO 8:PM\nHORH D’OEUVRES - DRINK SPECIAL
 S - SPECIAL GUEST DJS\nHOSTED BY LISA ANDREW & VENUS7\nFASHION SHOW HO
 STED BY FASHION VOYAGE  \nINSPIRED COLLECTIONS WITH GLOBAL FLAIR FROM
  PHILADELPHIA  FASHION DESIGNERS 8:00 PM TO 11:00 PM\nLIVE PERFORMANC
 ES BY\nTONY ENOS CD RELEASE PARTY\nTANJA DIXON\nPHILADELPHIA ‘S UNIF
 IED DJS\nDJ VENUS7\nDJ NIKO\nDJ SEAN DIAZ\nDJ GLENN THORNTON\nDJ DEL\n
 DJ MIKE MASERATI \nDJ RANDY FLASH\nSUPER DJ TERRELL CLARK\n\nQ LOUNGE
 \n1234 locust street   philadelphia pa   215.732.1800 www.qphill
 y.com\n\nAFTER PARTY W/ DJ LEE JONES\n\nFor more information visit htt
 p://phillytodo.com/events/from-city-of-brotherly-love
DTSTART:20100202T230000Z
DTEND:20100203T070000Z
CATEGORIES:fundraisor, "/party"
LOCATION:Q LOUNGE  www.qphilly.com
WEBSITE:http://www.qphilly.com
URL:http://www.qphilly.com
CONTACT:215.732.1800
ORGANIZER:www.medicineinaction.org / global influence
ATTACH;FMTTYPE="image/jpeg":http://storage.ning.com/topology/rest/1.0/
 file/get/3054946235?profile=original
ATTENDEE;ROLE=REQ-PARTICIPANT;PARTSTAT=ACCEPTED;RSVP=TRUE;CN=venus:htt
 p://phillytodo.com/profile/venus
END:VEVENT
END:VCALENDAR
