BEGIN:VCALENDAR
PRODID:NingEventWidget-v1
VERSION:2.0
METHOD:PUBLISH
BEGIN:VEVENT
UID:4320450:Event:157970
DTSTAMP:20260425T112515Z
SUMMARY:From Bones We Rise, The Empathics
DESCRIPTION:Saya Woolfalk is a New York-based artist who created a com
 plex, futuristic utopian culture and society of an interspecies female
  race called The Empathics. Their mythology and story of origins began
  with the discovery of chimeric bones that triggered them to metamorph
 ose into a plant, animal, and human hybrid creature. In modern Empathi
 c society, anyone may elect to undergo the experience of interspecies 
 hybridization, thus choosing to become an Empathic and a socially evol
 ved being.  The world of the Empathics emerged from the artist's inves
 tigations and interest in anthropology, science fiction, folklore, myt
 hology, and Afrofuturism. Drawing upon her  own experience as a Black,
  Asian, and white American she explores ideation of cultural hybridity
  as a pathway toward an equitable society. Rowan University Art Galler
 y is open by appointment only. Please reserve a timed ticket in advanc
 e to visiting the gallery. All visitors must wear a mask and practice 
 safe distancing.\n\nFor more information visit http://phillytodo.com/e
 vents/from-bones-we-rise-the-empathics
DTSTART:20210217T160000Z
DTEND:20210501T210000Z
CATEGORIES:gallery, exhibition
LOCATION:Rowan University Art Gallery
WEBSITE:https://www.eventbrite.com/e/from-bones-we-rise-the-empathics-
 tickets-140073556779
URL:https://www.eventbrite.com/e/from-bones-we-rise-the-empathics-tick
 ets-140073556779
CONTACT:(856) 256-4521
ORGANIZER;CN="mary salvante":http://phillytodo.com/profile/marysalvant
 e
ATTACH;FMTTYPE="image/jpeg":https://storage.ning.com/topology/rest/1.0
 /file/get/8562266863?profile=original
ATTENDEE;ROLE=REQ-PARTICIPANT;PARTSTAT=ACCEPTED;RSVP=TRUE;CN="mary sal
 vante":http://phillytodo.com/profile/marysalvante
END:VEVENT
END:VCALENDAR
