BEGIN:VCALENDAR
PRODID:NingEventWidget-v1
VERSION:2.0
METHOD:PUBLISH
BEGIN:VEVENT
UID:4320450:Event:49343
DTSTAMP:20260425T130444Z
SUMMARY:FringeA-Thon
DESCRIPTION:Hosted by John Jarboe, of the Bearded Ladies Cabaret, Frin
 geA-Thon is an epic 12-hour dance party marathon and fundraiser for Fr
 ingeArts—Philadelphia’s hub for contemporary live arts and the pow
 erhouse behind the Fringe Festival.\n\nFor more information visit http
 ://phillytodo.com/events/fringea-thon
DTSTART:20170520T160000Z
DTEND:20170521T040000Z
CATEGORIES:dance, marathon
LOCATION:Blue Cross River Rink at Penn's Landing
WEBSITE:http://fringearts.com/fringea-thon/fringea-thon-home/
URL:http://fringearts.com/fringea-thon/fringea-thon-home/
CONTACT:
ORGANIZER:FringeArts
ATTACH;FMTTYPE="image/jpeg":http://storage.ning.com/topology/rest/1.0/
 file/get/3054998984?profile=original
ATTENDEE;ROLE=REQ-PARTICIPANT;PARTSTAT=ACCEPTED;RSVP=TRUE;CN="Jaclyn F
 itzkee":http://phillytodo.com/profile/JaclynFitzkee
END:VEVENT
END:VCALENDAR
