BEGIN:VCALENDAR
PRODID:NingEventWidget-v1
VERSION:2.0
METHOD:PUBLISH
BEGIN:VEVENT
UID:4320450:Event:49437
DTSTAMP:20260425T112448Z
SUMMARY:FringeA-Thon Happy Hour
DESCRIPTION:FringeArts is hosting a three-part happy hours series lead
 ing up to FringeA-Thon, our 12-hour dance party fundraiser on May 20. 
 Register to dance, meet other dancers and bring your team and learn pi
 eces of the coordinated dance routine at FringeA-Thon! There will be f
 ree beer complimentary of Saint Benjamin's Brewery!\n\nFor more inform
 ation visit http://phillytodo.com/events/fringea-thon-happy-hour
DTSTART:20170330T220000Z
DTEND:20170331T000000Z
CATEGORIES:happy, hour
LOCATION:FringeArts
WEBSITE:https://www.facebook.com/events/362658317466601/
URL:https://www.facebook.com/events/362658317466601/
CONTACT:
ORGANIZER:FringeArts
ATTACH;FMTTYPE="image/jpeg":http://storage.ning.com/topology/rest/1.0/
 file/get/3055003323?profile=original
ATTENDEE;ROLE=REQ-PARTICIPANT;PARTSTAT=ACCEPTED;RSVP=TRUE;CN="Jaclyn F
 itzkee":http://phillytodo.com/profile/JaclynFitzkee
END:VEVENT
END:VCALENDAR
