BEGIN:VCALENDAR
PRODID:NingEventWidget-v1
VERSION:2.0
METHOD:PUBLISH
BEGIN:VEVENT
UID:4320450:Event:55098
DTSTAMP:20260425T125638Z
SUMMARY:FRIENDS OF RITTENHOUSE SQUARE TO HOST FREE BOOK READING IN RIT
 TENHOUSE SQUARE PARK
DESCRIPTION:The Friends of Rittenhouse Square, in partnership with the
  Free Library of Philadelphia, will host a free childrenâ€™s book read
 ing in Philadelphiaâ€™s most historic public park, Rittenhouse Square.
  Families are invited to come to the park to hear the Free Libraryâ€™s
  selection of three childrenâ€™s books, includingÂ Whistle for WillieÂ
  by Ezra Jack Keats,Â Kite DayÂ by Will Hillenbrand andÂ A Small Thing
  â€¦ But BigÂ by Tony Johnston. To celebrate,Â Joe CoffeeÂ in Rittenho
 use Square will be offering any beverage for $1 to those who attend.Â 
 Â \n\nFor more information visit http://phillytodo.com/events/friends-
 of-rittenhouse-square-to-host-free-book-reading-in
DTSTART:20180519T150000Z
DTEND:20180519T160000Z
CATEGORIES:community, event
LOCATION:Rittenhouse Square Park
WEBSITE:
URL:
CONTACT:2156271060
ORGANIZER:Friends of Rittenhouse
ATTACH;FMTTYPE="image/jpeg":
ATTENDEE;ROLE=REQ-PARTICIPANT;PARTSTAT=ACCEPTED;RSVP=TRUE;CN=CashmanAs
 soc:http://phillytodo.com/profile/CashmanAssoc
END:VEVENT
END:VCALENDAR
