BEGIN:VCALENDAR
PRODID:NingEventWidget-v1
VERSION:2.0
METHOD:PUBLISH
BEGIN:VEVENT
UID:4320450:Event:54670
DTSTAMP:20260425T131126Z
SUMMARY:Friends of LOVE Park VIP Fundraising Event
DESCRIPTION:It's the first party in the park! The Inaugural Friends of
  LOVE Park Fundraising Event will be held the evening of the official 
 grand opening of LOVE Park, on May 30, 6 to 8 pm. Guests will enjoy an
  exclusive evening under the stars at the new LOVE Park featuring musi
 c by DJ Jazzy Jeff, an open bar with inspired cocktails, eclectic cuis
 ine from Philly's finest food trucks, a raffle, and more! The newly fo
 rmed Friends of LOVE Park works in partnership with Fairmount Park Con
 servancy and Philadelphia Parks and Recreation to support LOVE Park. P
 roceeds from the event will support park maintenance and free programm
 ing throughout the year. Tickets start at $100. For more information v
 isit, myphillypark.org/event/love-park.\n\nFor more information visit 
 http://phillytodo.com/events/friends-of-love-park-vip-fundraising-even
 t
DTSTART:20180530T220000Z
DTEND:20180531T000000Z
CATEGORIES:fundraiser
LOCATION:LOVE Park
WEBSITE:
URL:
CONTACT:
ORGANIZER:Fairmount Park Conservancy and Philadelphia Parks and Recrea
 tion
ATTACH;FMTTYPE="image/jpeg":http://storage.ning.com/topology/rest/1.0/
 file/get/3055010473?profile=original
ATTENDEE;ROLE=REQ-PARTICIPANT;PARTSTAT=ACCEPTED;RSVP=TRUE;CN="Cari Fei
 ler Bender":http://phillytodo.com/profile/CariFeilerBender
END:VEVENT
END:VCALENDAR
