BEGIN:VCALENDAR
PRODID:NingEventWidget-v1
VERSION:2.0
METHOD:PUBLISH
BEGIN:VEVENT
UID:4320450:Event:43102
DTSTAMP:20260425T112922Z
SUMMARY:Friend Friday at Tall Trees Nature Playscape
DESCRIPTION:Bring a neighbor or friend and unwind from the week with y
 our child on Tall Trees Nature Playscape, our all natural play space. 
 Nature Preschool teachers will provide crafts and activities.\nRegistr
 ation:\nPlease call 215-482-7300, x110 or register online\n\nFor more 
 information visit http://phillytodo.com/events/friend-friday-at-tall-t
 rees-nature-playscape
DTSTART:20151016T210000Z
DTEND:20151016T220000Z
CATEGORIES:free, family, fun
LOCATION:Schuylkill Center for Environmental Education
WEBSITE:http://www.schuylkillcenter.org
URL:http://www.schuylkillcenter.org
CONTACT:215-482-7300, 110
ORGANIZER;CN="The Schuylkill Center":http://phillytodo.com/profile/Ann
 aLehrMueser
ATTACH;FMTTYPE="image/jpeg":http://storage.ning.com/topology/rest/1.0/
 file/get/3054993656?profile=original
ATTENDEE;ROLE=REQ-PARTICIPANT;PARTSTAT=ACCEPTED;RSVP=TRUE;CN="The Schu
 ylkill Center":http://phillytodo.com/profile/AnnaLehrMueser
END:VEVENT
END:VCALENDAR
