BEGIN:VCALENDAR
PRODID:NingEventWidget-v1
VERSION:2.0
METHOD:PUBLISH
BEGIN:VEVENT
UID:4320450:Event:42960
DTSTAMP:20260425T144728Z
SUMMARY:Friday Night Jazz: An Organ Holiday… And a Merry One!
DESCRIPTION:This vocal songfest jazzes up the holidays with swinging h
 oliday favorites like “Jingle Bells” and “Let It Snow.”\n\nFor
  more information visit http://phillytodo.com/events/friday-night-jazz
 -an-organ-holiday-and-a-merry-one
DTSTART:20151218T230000Z
DTEND:20151219T010000Z
CATEGORIES:holiday, event
LOCATION:Woodmere Art Museum
WEBSITE:http://www.chestnuthillpa.com
URL:http://www.chestnuthillpa.com
CONTACT:215-247-6696
ORGANIZER:Chestnut Hill Business Association
ATTACH;FMTTYPE="image/jpeg":http://storage.ning.com/topology/rest/1.0/
 file/get/3054990144?profile=original
ATTENDEE;ROLE=REQ-PARTICIPANT;PARTSTAT=ACCEPTED;RSVP=TRUE;CN="Bryan Ch
 an":http://phillytodo.com/profile/BryanChan
END:VEVENT
END:VCALENDAR
