BEGIN:VCALENDAR
PRODID:NingEventWidget-v1
VERSION:2.0
METHOD:PUBLISH
BEGIN:VEVENT
UID:4320450:Event:51905
DTSTAMP:20260425T143241Z
SUMMARY:Friday Night Dance Party, Drew Nugent &amp; the Midnight Socie
 ty
DESCRIPTION:South Street Headhouse District kicks off a series of summ
 er Friday night dance parties under the Historic Headhouse Shambles (2
 00 Lombard St.) this Friday, July 21, 2017 from 6:00pm to 9:00pm. Drew
  Nugent & the Midnight Society will take the stage performing jazz, bl
 ues, and pop music, primarily from the Jazz Age. Make sure to get ther
 e early and enjoy a free dance lesson from the Society Hill Dance Acad
 emy from 6:00pm to 7:00pm and stick around to show off your new dance 
 moves. Cocktails and lite fare will be available for purchase by Bridg
 et Foy's. This event is free and open to the public. For more informat
 ion, visit www.southstreet.com or call (215)-413-3713.  \n\nFor more 
 information visit http://phillytodo.com/events/friday-night-dance-part
 y-drew-nugent-amp-the-midnight-society
DTSTART:20170721T220000Z
DTEND:20170722T010000Z
CATEGORIES:dance, party
LOCATION:Head House Square
WEBSITE:https://www.eventbrite.com/e/friday-night-dance-party-featurin
 g-drew-nugent-the-midnight-society-tickets-36274882149
URL:https://www.eventbrite.com/e/friday-night-dance-party-featuring-dr
 ew-nugent-the-midnight-society-tickets-36274882149
CONTACT:215.431.6671
ORGANIZER;CN="Aversa PR & Events":http://phillytodo.com/profile/KoryAv
 ersa277
ATTACH;FMTTYPE="image/jpeg":http://storage.ning.com/topology/rest/1.0/
 file/get/3055004647?profile=original
ATTENDEE;ROLE=REQ-PARTICIPANT;PARTSTAT=ACCEPTED;RSVP=TRUE;CN="Aversa P
 R & Events":http://phillytodo.com/profile/KoryAversa277
END:VEVENT
END:VCALENDAR
