BEGIN:VCALENDAR
PRODID:NingEventWidget-v1
VERSION:2.0
METHOD:PUBLISH
BEGIN:VEVENT
UID:4320450:Event:56117
DTSTAMP:20260425T130558Z
SUMMARY:Freeing the Mind: Understanding Buddhist Psychology
DESCRIPTION:With our normal state of mind, we are not happy all the ti
 me. In this free talk, we will discover how to expand our mind and use
  it to create a free and beautiful life.\nWe will focus on understandi
 ng the mind and how to use it to create a meaningful and happy life ri
 ght here and now in our lives in the city, regardless of external circ
 umstances.\nFor thousands of years, Buddhist psychology has successful
 ly helped countless people solve their daily problems and find inner p
 eace.\nTaught by Resident Teacher, Gen Tenzin.\nNo cost. Everyone is w
 elcome.\n\nFor more information visit http://phillytodo.com/events/fre
 eing-the-mind-understanding-buddhist-psychology
DTSTART:20180906T230000Z
DTEND:20180907T003000Z
CATEGORIES:class, meditation, buddhism
LOCATION:Kadampa Meditation Center Philadelphia
WEBSITE:http://www.meditationinphiladelphia.org/free-talk-freeing-the-
 mind-understanding-buddhist-psychology-september-6th-in-philly/
URL:http://www.meditationinphiladelphia.org/free-talk-freeing-the-mind
 -understanding-buddhist-psychology-september-6th-in-philly/
CONTACT:267-702-3817
ORGANIZER;CN="Education Program Coordinator":http://phillytodo.com/pro
 file/EducationProgramCoordinator
ATTACH;FMTTYPE="image/jpeg":http://storage.ning.com/topology/rest/1.0/
 file/get/3055014899?profile=original
ATTENDEE;ROLE=REQ-PARTICIPANT;PARTSTAT=ACCEPTED;RSVP=TRUE;CN="Educatio
 n Program Coordinator":http://phillytodo.com/profile/EducationProgramC
 oordinator
END:VEVENT
END:VCALENDAR
