BEGIN:VCALENDAR
PRODID:NingEventWidget-v1
VERSION:2.0
METHOD:PUBLISH
BEGIN:VEVENT
UID:4320450:Event:42702
DTSTAMP:20260425T144648Z
SUMMARY:Freedom from Frustration: The Practice of Patience
DESCRIPTION:When things go wrong in our life and we encounter difficul
 t situations, we tend to regard the situation itself as our problem, b
 ut in reality whatever problems we experience come from the side of th
 e mind.  If we responded to difficult situations with a positive or p
 eaceful mind they would not be problems for us.  Eventually, we might
  even regard them as challenges or opportunities for growth and develo
 pment.  In this course we will learn the time-tested methods taught b
 y Buddha for improving our patience, and how to practically apply thos
 e methods to our daily life.  Come learn how the practice of patience
  can bring peace and harmony to your life and your relationships.  Ev
 eryone is welcome.\nThis course will be taught by Gen Tenzin, with med
 itations led by Julie Francisco.  Gen Tenzin is a Buddhist monk of ov
 er 17 years and has taught Kadampa Buddhism extensively for over 18 ye
 ars in California, Connecticut, Vermont, Maine, New York, Massachusett
 s, New Hampshire, New Jersey, and Pennsylvania. As a senior Kadampa st
 udent and teacher, he is a close disciple of Venerable Geshe Kelsang G
 yatso Rinpoche. He has a great depth of understanding of the teachings
  and is skillful in his presentation by sharing them in an entertainin
 g, approachable, and kind-hearted manner.\n\nCourse Schedule:\nRegistr
 ation: 10:30am-11:00am\nTeaching and Meditation: 11:00am-12:30pm\nLunc
 h: 12:30-2:00pm\nTeaching and Meditation: 2:00-4:00pm\n\n$30 per perso
 n, $15 for Full members.  No cost for Kadampa Members.\n\nFor more in
 formation visit http://phillytodo.com/events/freedom-from-frustration-
 the-practice-of-patience
DTSTART:20151017T150000Z
DTEND:20151017T200000Z
CATEGORIES:public, course, "&", meditation
LOCATION:Amitayus Kadampa Buddhist Center
WEBSITE:http://www.meditationinphiladelphia.org/freedom-from-frustrati
 on-the-practice-of-patience/
URL:http://www.meditationinphiladelphia.org/freedom-from-frustration-t
 he-practice-of-patience/
CONTACT:267-702-3817
ORGANIZER;CN="Education Program Coordinator":http://phillytodo.com/pro
 file/EducationProgramCoordinator
ATTACH;FMTTYPE="image/jpeg":http://storage.ning.com/topology/rest/1.0/
 file/get/3054989850?profile=original
ATTENDEE;ROLE=REQ-PARTICIPANT;PARTSTAT=ACCEPTED;RSVP=TRUE;CN="Educatio
 n Program Coordinator":http://phillytodo.com/profile/EducationProgramC
 oordinator
END:VEVENT
END:VCALENDAR
