BEGIN:VCALENDAR
PRODID:NingEventWidget-v1
VERSION:2.0
METHOD:PUBLISH
BEGIN:VEVENT
UID:4320450:Event:54622
DTSTAMP:20260425T131122Z
SUMMARY:FREE Valentine’s Day Yoga with Champagne + Strawberries
DESCRIPTION:Stretch your love to new limits with FREE yoga classes at
  Sweat Fitness with complimentary Champagne and strawberries! Skip t
 he V-Day stress and practice heart opening poses with your significant
  other or friends. The classes are suitable for yoga lovers of all lev
 els, Valentine’s Day yoga classes are at the following locations and
  times: \nQueen Village - 6 p.m. | 700 Passyunk Ave. Philadelphia, P
 A 19147 | 215-627-5600  \nOld City - 6 p.m. | 45 N. 3rd St. Philad
 elphia, PA 19122 | 215-923-8763\nManayunk - 6:30 p.m. | 4151 Main St.
  Philadelphia, PA 19127 | 215-487-7100 \nFitler Square- 7:30 p.m. | 2
 00 S. 24th St. Philadelphia, PA 19103 | 215-351-0100\nsweatfitness.com
 \n\n\nFor more information visit http://phillytodo.com/events/free-val
 entine-s-day-yoga-with-champagne-strawberries
DTSTART:20180214T230000Z
DTEND:20180215T000000Z
CATEGORIES:free, yoga, class
LOCATION:Sweat Fitness
WEBSITE:http://sweatfitness.com
URL:http://sweatfitness.com
CONTACT:
ORGANIZER;CN="Punch Media":http://phillytodo.com/profile/PunchMedia
ATTACH;FMTTYPE="image/jpeg":
ATTENDEE;ROLE=REQ-PARTICIPANT;PARTSTAT=ACCEPTED;RSVP=TRUE;CN="Punch Me
 dia":http://phillytodo.com/profile/PunchMedia
END:VEVENT
END:VCALENDAR
