BEGIN:VCALENDAR
PRODID:NingEventWidget-v1
VERSION:2.0
METHOD:PUBLISH
BEGIN:VEVENT
UID:4320450:Event:49330
DTSTAMP:20260425T123537Z
SUMMARY:Free Talk: How to Transform Your Life
DESCRIPTION:Our life in the city can be incredibly rewarding, fulfilli
 ng, and spiritual. In this talk, we will receive inspiring advice from
  local Buddhist monk, Gen Tenzin. He has been teaching Buddhism for tw
 enty years and is both entertaining and engaging, being a modern spiri
 tual person in Philadelphia.\nIn this talk, we will focus on transform
 ing our normal routine at work and with family into sources of joy and
  enlightenment.\nNo cost. Everyone is welcome.\n\nFor more information
  visit http://phillytodo.com/events/free-talk-how-to-transform-your-li
 fe
DTSTART:20170315T223000Z
DTEND:20170315T233000Z
CATEGORIES:free, talk, meditation
LOCATION:Philadelphia City Institute Library
WEBSITE:http://www.meditationinphiladelphia.org/free-talk-at-philadelp
 hia-city-institute-library-how-to-transform-your-life-march-15/
URL:http://www.meditationinphiladelphia.org/free-talk-at-philadelphia-
 city-institute-library-how-to-transform-your-life-march-15/
CONTACT:267-702-3817
ORGANIZER;CN="Education Program Coordinator":http://phillytodo.com/pro
 file/EducationProgramCoordinator
ATTACH;FMTTYPE="image/jpeg":http://storage.ning.com/topology/rest/1.0/
 file/get/3055001615?profile=original
ATTENDEE;ROLE=REQ-PARTICIPANT;PARTSTAT=ACCEPTED;RSVP=TRUE;CN="Educatio
 n Program Coordinator":http://phillytodo.com/profile/EducationProgramC
 oordinator
END:VEVENT
END:VCALENDAR
