BEGIN:VCALENDAR
PRODID:NingEventWidget-v1
VERSION:2.0
METHOD:PUBLISH
BEGIN:VEVENT
UID:4320450:Event:59102
DTSTAMP:20260425T131006Z
SUMMARY:Free Talk: Healthy Pain Management and Meditation
DESCRIPTION:Nobody likes to be in pain. Finding healthy ways to manage
  pain is key to feeling healthy and positive in our busy, modern lives
 . Through using meditation and positive thinking, we will be able to f
 ind positive ways to manage and ease physical and mental pain that oth
 erwise require sometimes unhealthy responses. In this evening’s work
 shop, the presenter, Gen Tenzin, will explain the benefits of using me
 ditation to manage pain.\nLed by Resident Teacher, Gen Tenzin.\nNo cos
 t. Everyone is welcome.\n\nFor more information visit http://phillytod
 o.com/events/free-talk-healthy-pain-management-and-meditation
DTSTART:20190903T220000Z
DTEND:20190903T231500Z
CATEGORIES:meditation, buddhism, mindfulness, wellness, buddhist
LOCATION:Kadampa Meditation Center Philadelphia
WEBSITE:http://www.meditationinphiladelphia.org/free-talk-healthy-pain
 -management-and-meditation/
URL:http://www.meditationinphiladelphia.org/free-talk-healthy-pain-man
 agement-and-meditation/
CONTACT:267-702-3817
ORGANIZER;CN="Education Program Coordinator":http://phillytodo.com/pro
 file/EducationProgramCoordinator
ATTACH;FMTTYPE="image/jpeg":https://storage.ning.com/topology/rest/1.0
 /file/get/3431441189?profile=original
ATTENDEE;ROLE=REQ-PARTICIPANT;PARTSTAT=ACCEPTED;RSVP=TRUE;CN="Educatio
 n Program Coordinator":http://phillytodo.com/profile/EducationProgramC
 oordinator
END:VEVENT
END:VCALENDAR
