BEGIN:VCALENDAR
PRODID:NingEventWidget-v1
VERSION:2.0
METHOD:PUBLISH
BEGIN:VEVENT
UID:4320450:Event:171614
DTSTAMP:20260425T111503Z
SUMMARY:Free Talk - Finding Peace: Meditation, Inner Health &amp; Happ
 iness
DESCRIPTION:When things go wrong in our life and we encounter difficul
 t situations, we tend to regard the situation itself as our problem. 
 But, in reality, whatever problems we experience come from the mind. 
 If we were to respond to difficult situations with a positive and pea
 ceful mind, they would not be problems for us. Indeed, we may even co
 me to regard them as challenges or opportunities for growth and devel
 opment. Problems arise only if we respond to difficulties with a nega
 tive state of mind. Therefore, if we want to be happy all the time an
 d to be free from problems, we must maintain and develop a peaceful m
 ind. No previous experience of meditation or Buddhism is necessary to
  attend this talk. Everyone is welcome! With Meditation Teacher, Sar
 ah Frew\n\nFor more information visit http://phillytodo.com/events/fre
 e-talk-finding-peace-meditation-inner-health-amp-happiness
DTSTART:20230105T000000Z
DTEND:20230105T010000Z
CATEGORIES:free, talk, with, guided, meditation
LOCATION:Philadelphia Ethical Society
WEBSITE:
URL:
CONTACT:2677023817
ORGANIZER;CN="Education Program Coordinator":http://phillytodo.com/pro
 file/EducationProgramCoordinator
ATTACH;FMTTYPE="image/jpeg":https://storage.ning.com/topology/rest/1.0
 /file/get/10920770066?profile=original
ATTENDEE;ROLE=REQ-PARTICIPANT;PARTSTAT=ACCEPTED;RSVP=TRUE;CN="Educatio
 n Program Coordinator":http://phillytodo.com/profile/EducationProgramC
 oordinator
END:VEVENT
END:VCALENDAR
