BEGIN:VCALENDAR
PRODID:NingEventWidget-v1
VERSION:2.0
METHOD:PUBLISH
BEGIN:VEVENT
UID:4320450:Event:47139
DTSTAMP:20260425T155714Z
SUMMARY:Free Talk: Enjoying Success: The Power of a Peaceful Mind
DESCRIPTION:Success does not need to come at the end of a long journey
 . By seeking an internal solution and creating a positive and open min
 d, opportunities will appear everywhere in our lives. If we create pea
 ce within our mind right now, this will be a perfect environment for e
 xternal success in our daily lives. Buddha taught that when the mind i
 s fully at peace, life is effortless and joyful. In this evening talk,
  we will receive profound yet simple techniques to be successful in ou
 r hearts and our lives in the city.\nTaught by Resident Teacher, Gen T
 enzin.\nNo prior meditation experience is necessary. Everyone is welco
 me.\n \n\nFor more information visit http://phillytodo.com/events/fre
 e-talk-enjoying-success-the-power-of-a-peaceful-mind
DTSTART:20160908T220000Z
DTEND:20160908T233000Z
CATEGORIES:free, "talk:", enjoying, "success:", the, power, of, a, pea
 ceful, mind
LOCATION:Kadampa Meditation Center Philadelphia
WEBSITE:http://www.meditationinphiladelphia.org/free-talk-enjoying-suc
 cess-the-power-of-a-peaceful-mind-september-8/
URL:http://www.meditationinphiladelphia.org/free-talk-enjoying-success
 -the-power-of-a-peaceful-mind-september-8/
CONTACT:2677023817
ORGANIZER:1102 Pine St
ATTACH;FMTTYPE="image/jpeg":http://storage.ning.com/topology/rest/1.0/
 file/get/3054998254?profile=original
ATTENDEE;ROLE=REQ-PARTICIPANT;PARTSTAT=ACCEPTED;RSVP=TRUE;CN="Educatio
 n Program Coordinator":http://phillytodo.com/profile/EducationProgramC
 oordinator
END:VEVENT
END:VCALENDAR
