BEGIN:VCALENDAR
PRODID:NingEventWidget-v1
VERSION:2.0
METHOD:PUBLISH
BEGIN:VEVENT
UID:4320450:Event:57313
DTSTAMP:20260425T112704Z
SUMMARY:FREE TALK: Dealing Positively with Pain
DESCRIPTION:Part of human life is facing disappointment, difficult sit
 uations, illness, aging, and changing financial situations. How we dea
 l with these difficult situations will determine the course of our rel
 ationships and lives in the future.\nPain tells us that something insi
 de is out of balance, encouraging us to change our behavior and find a
  positive solution.\nThrough practicing meditation, creative thinking,
  and being with supportive friends, we can learn to view pain as a pow
 erful spiritual guide encouraging us to follow a spiritual path to pea
 ce and balance.\nTaught by Resident Teacher, Gen Tenzin.\nNo cost. Eve
 ryone is welcome.\n\nFor more information visit http://phillytodo.com/
 events/free-talk-dealing-positively-with-pain
DTSTART:20190321T230000Z
DTEND:20190322T000000Z
CATEGORIES:meditation, buddhism, free
LOCATION:Kadampa Meditation Center Philadelphia
WEBSITE:http://www.meditationinphiladelphia.org/free-talk-dealing-posi
 tively-with-pain-march-21/
URL:http://www.meditationinphiladelphia.org/free-talk-dealing-positive
 ly-with-pain-march-21/
CONTACT:267-702-3817
ORGANIZER;CN="Education Program Coordinator":http://phillytodo.com/pro
 file/EducationProgramCoordinator
ATTACH;FMTTYPE="image/jpeg":https://storage.ning.com/topology/rest/1.0
 /file/get/1251451182?profile=original
ATTENDEE;ROLE=REQ-PARTICIPANT;PARTSTAT=ACCEPTED;RSVP=TRUE;CN="Educatio
 n Program Coordinator":http://phillytodo.com/profile/EducationProgramC
 oordinator
END:VEVENT
END:VCALENDAR
