BEGIN:VCALENDAR
PRODID:NingEventWidget-v1
VERSION:2.0
METHOD:PUBLISH
BEGIN:VEVENT
UID:4320450:Event:2988
DTSTAMP:20260425T141234Z
SUMMARY:Free Self Defense Seminar
DESCRIPTION:We start where most self defense classes stop!\n\nMost sel
 f defense classes spend only 10% of class time on functional technique
 s, focusing instead on avoiding bad situations. What they do teach in 
 terms of physical skill is based on an unlikely attack from an untrain
 ed aggressor. While this kind of training is effective in avoiding cri
 mes of opportunity, will you know what to do if the situation can’t 
 be defused?\n\nIn this free 2-hour course ($50 value per student), lea
 rn how to defeat an attacker who intends you serious harm. All techniq
 ues are simple to learn and tested for street effectiveness. Learn def
 enses against unarmed attacks, blade and stick attacks, and gun crimes
 .\n\nThis class is to be held at the Philadelphia School of Modern Ken
 jutsu and Aikijujutsu, Hidden Grove Dojo in Northeast Philadelphia, on
  Rising Sun near Tyson.\n\nPublic transportation is available through 
 the 18 or 24 bus or R8 train.\n\nFor information, visit www.modernkenj
 utsu.com and click ‘Seminars’.\nQuestions? Contact the Hidden Grov
 e Dojo\nRSVP (for headcount) via email: info@modernkenjutsu.com or pho
 ne: 267-258-1962\n\nFor more information visit http://phillytodo.com/e
 vents/free-self-defense-seminar
DTSTART:20101120T170000Z
DTEND:20101120T190000Z
CATEGORIES:seminar, "martial arts", free, self-defense, "self defense"
LOCATION:Hidden Grove Dojo, Philadelphia School of Modern Kenjutsu and
  Aikijujutsu
WEBSITE:http://www.modernkenjutsu.com/Dojo.php
URL:http://www.modernkenjutsu.com/Dojo.php
CONTACT:267-258-1962
ORGANIZER;CN="Modern Kenjutsu":http://phillytodo.com/profile/ModernKen
 jutsu
ATTACH;FMTTYPE="image/jpeg":http://storage.ning.com/topology/rest/1.0/
 file/get/3054950963?profile=original
ATTENDEE;ROLE=REQ-PARTICIPANT;PARTSTAT=ACCEPTED;RSVP=TRUE;CN="Modern K
 enjutsu":http://phillytodo.com/profile/ModernKenjutsu
END:VEVENT
END:VCALENDAR
