BEGIN:VCALENDAR
PRODID:NingEventWidget-v1
VERSION:2.0
METHOD:PUBLISH
BEGIN:VEVENT
UID:4320450:Event:1443
DTSTAMP:20260425T144246Z
SUMMARY:Free Saturday Morning Boot Camp
DESCRIPTION:Come on out and give the #1 fitness boot camp in Philadelp
 hia a try for free!\nThat's right Real World Strength Coach in Manayun
 k will be having an open house at 11am this Saturday May 8th!\nCome se
 e what all the talk is about!\nHTTP://realworldstrengthcoach.com\n\nFo
 r more information visit http://phillytodo.com/events/free-saturday-mo
 rning-boot
DTSTART:20100508T150000Z
DTEND:20100508T160000Z
CATEGORIES:fitness, boot, camp
LOCATION:real world strength coach gym
WEBSITE:http://realworlstrengthcoach.com
URL:http://realworlstrengthcoach.com
CONTACT:610-291-6779
ORGANIZER;CN="dave lee":http://phillytodo.com/profile/davelee
ATTACH;FMTTYPE="image/jpeg":http://storage.ning.com/topology/rest/1.0/
 file/get/2990817043?profile=original
ATTENDEE;ROLE=REQ-PARTICIPANT;PARTSTAT=ACCEPTED;RSVP=TRUE;CN="dave lee
 ":http://phillytodo.com/profile/davelee
END:VEVENT
END:VCALENDAR
