BEGIN:VCALENDAR
PRODID:NingEventWidget-v1
VERSION:2.0
METHOD:PUBLISH
BEGIN:VEVENT
UID:4320450:Event:38020
DTSTAMP:20260425T162022Z
SUMMARY:Free Public Talk: Meditation and Modern Buddhism
DESCRIPTION:No pre-registration required.  Everyone is welcome.  Doo
 rs open at 6:30.\nSlow down your hectic life with a guided meditation 
 and a brief introduction to basic Buddhist principles.  The art of me
 ditation, which has been practiced for thousands of years many countri
 es, can allow one to cultivate tranquility and inner peace, and to bet
 ter cope with life’s challenges.  You do not have to be a Buddhist 
 to enjoy the benefits of meditation.\nThis talk will be given by Gen K
 elsang Tenzin, a Buddhist monk and Resident Teacher of Amitayus Kadamp
 a Buddhist Center.\n\nFor more information visit http://phillytodo.com
 /events/free-public-talk-meditation-and-modern-buddhism
DTSTART:20140918T230000Z
DTEND:20140919T001500Z
CATEGORIES:meditation, class, buddhism, wellness, spiritual, buddhist,
  free
LOCATION:Amitayus Kadampa Buddhist Center
WEBSITE:http://www.meditationinphiladelphia.org/free-public-talk-medit
 ation-and-modern-buddhism-2/
URL:http://www.meditationinphiladelphia.org/free-public-talk-meditatio
 n-and-modern-buddhism-2/
CONTACT:267-702-3817
ORGANIZER;CN="Education Program Coordinator":http://phillytodo.com/pro
 file/EducationProgramCoordinator
ATTACH;FMTTYPE="image/jpeg":http://storage.ning.com/topology/rest/1.0/
 file/get/3054965638?profile=original
ATTENDEE;ROLE=REQ-PARTICIPANT;PARTSTAT=ACCEPTED;RSVP=TRUE;CN="Educatio
 n Program Coordinator":http://phillytodo.com/profile/EducationProgramC
 oordinator
END:VEVENT
END:VCALENDAR
