BEGIN:VCALENDAR
PRODID:NingEventWidget-v1
VERSION:2.0
METHOD:PUBLISH
BEGIN:VEVENT
UID:4320450:Event:40749
DTSTAMP:20260425T141555Z
SUMMARY:Free Public Talk: Meditation and Modern Buddhism
DESCRIPTION:Slow down your hectic life with a guided meditation and a 
 brief introduction to basic Buddhist principles.  The art of meditati
 on, which has been practiced for thousands of years many countries, ca
 n allow one to cultivate tranquility and inner peace, and to better co
 pe with life’s challenges.\nThis talk will be given by Gen Kelsang T
 enzin, a Buddhist monk and Resident Teacher of Amitayus Kadampa Buddhi
 st Center.\nNo cost.  Everyone is welcome.\n\nFor more information vi
 sit http://phillytodo.com/events/free-public-talk-meditation-and-moder
 n-buddhism-1
DTSTART:20150518T230000Z
DTEND:20150518T234500Z
CATEGORIES:buddhism, meditation, mindfulness, dharma, spirituality, we
 llness, philosophy, psychology
LOCATION:Philadelphia City Institute Free Library
WEBSITE:http://www.meditationinphiladelphia.org/free-public-talk-medit
 ation-and-modern-buddhism-philadelphia-city-institute/
URL:http://www.meditationinphiladelphia.org/free-public-talk-meditatio
 n-and-modern-buddhism-philadelphia-city-institute/
CONTACT:267-702-3817
ORGANIZER;CN="Education Program Coordinator":http://phillytodo.com/pro
 file/EducationProgramCoordinator
ATTACH;FMTTYPE="image/jpeg":http://storage.ning.com/topology/rest/1.0/
 file/get/3054987437?profile=original
ATTENDEE;ROLE=REQ-PARTICIPANT;PARTSTAT=ACCEPTED;RSVP=TRUE;CN="Educatio
 n Program Coordinator":http://phillytodo.com/profile/EducationProgramC
 oordinator
END:VEVENT
END:VCALENDAR
