BEGIN:VCALENDAR
PRODID:NingEventWidget-v1
VERSION:2.0
METHOD:PUBLISH
BEGIN:VEVENT
UID:4320450:Event:56702
DTSTAMP:20260425T142644Z
SUMMARY:FREE New Year’s Eve Event
DESCRIPTION:The new year can be a time of hope and joy. On this wonder
 ful evening, we will set a positive direction for the new year by open
 ing our hearts and inviting many new friends into our lives. This even
 ing will included a guided meditation and an inspiring talk designed t
 o boost your happiness and confidence for a positive new year.\nYou wi
 ll be invited to light a candle on the shrine, symbolizing your future
  attainment of enlightenment. Candlelight symbolizes wisdom, and wisdo
 m is our best friend and helper. We will focus on the development of e
 nlightened wisdom on this special evening. The evening will conclude w
 ith desserts and social time in our cafe area.\nLed by Resident Teache
 r, Gen Tenzin.\nFree of charge. Everyone is welcome, including childre
 n.\n\nFor more information visit http://phillytodo.com/events/free-new
 -year-s-eve-event
DTSTART:20190101T000000Z
DTEND:20190101T010000Z
CATEGORIES:free, meditation, nye, buddhism, holiday
LOCATION:Kadampa Meditation Center Philadelphia
WEBSITE:http://www.meditationinphiladelphia.org/free-new-years-eve-can
 dlelight-buddha-of-compassion-practice-and-encouragement-for-the-new-y
 ear-dec-31/
URL:http://www.meditationinphiladelphia.org/free-new-years-eve-candlel
 ight-buddha-of-compassion-practice-and-encouragement-for-the-new-year-
 dec-31/
CONTACT:267-702-3817
ORGANIZER;CN="Education Program Coordinator":http://phillytodo.com/pro
 file/EducationProgramCoordinator
ATTACH;FMTTYPE="image/jpeg":https://storage.ning.com/topology/rest/1.0
 /file/get/451333133?profile=original
ATTENDEE;ROLE=REQ-PARTICIPANT;PARTSTAT=ACCEPTED;RSVP=TRUE;CN="Educatio
 n Program Coordinator":http://phillytodo.com/profile/EducationProgramC
 oordinator
END:VEVENT
END:VCALENDAR
