BEGIN:VCALENDAR
PRODID:NingEventWidget-v1
VERSION:2.0
METHOD:PUBLISH
BEGIN:VEVENT
UID:4320450:Event:4006
DTSTAMP:20260425T132836Z
SUMMARY:FREE Kids Yoga Valentine’s Day Party
DESCRIPTION:Shanti Yoga Shala’s FREE Kids Yoga Valentine’s Day Par
 ty\nSaturday February 12th, 1-3pm\nFREE!!!\nWe will be offering Valent
 ine’s themed Yoga activities, snacks, games and more.\nJoin Shanti Y
 oga Shala’s Karma Kids Yoga teacher Debbie Mangel for this fun, free
  event! Bring your kiddies and drop them off or hangout and play!\nYog
 a is a discipline that can lead kids on the path toward a calm and bal
 anced mind, as well as help them build a strong and flexible body – 
 tools they can use in their everyday lives.\nIn our Karma Kids Yoga cl
 asses, we practice fun-filled yoga poses and breathing exercises to pr
 omote:\n• Physical Strength and Flexibility\n• Concentration, Focu
 s and Attention\n• Inner Strength and Body Awareness\n• Confidence
  and Self-esteem\n• Relaxation and Self-control\n• A Feeling of We
 ll-being and Respect for Others\n• Love for One’s Self, Inside and
  Out\nIn our fun environment, children play yoga by imitating animals 
 and nature, and by using creative expression, games, music, art, and s
 torytelling.\n\nFor more information visit http://phillytodo.com/event
 s/free-kids-yoga-valentines-day
DTSTART:20110212T180000Z
DTEND:20110212T200000Z
CATEGORIES:kids, yoga, party
LOCATION:Old City
WEBSITE:http://www.shantiyogashala.org
URL:http://www.shantiyogashala.org
CONTACT:215-923-9642
ORGANIZER;CN="Shanti Yoga Shala":http://phillytodo.com/profile/ShantiY
 ogaShala
ATTACH;FMTTYPE="image/jpeg":http://storage.ning.com/topology/rest/1.0/
 file/get/3054953675?profile=original
ATTENDEE;ROLE=REQ-PARTICIPANT;PARTSTAT=ACCEPTED;RSVP=TRUE;CN="Shanti Y
 oga Shala":http://phillytodo.com/profile/ShantiYogaShala
END:VEVENT
END:VCALENDAR
