BEGIN:VCALENDAR
PRODID:NingEventWidget-v1
VERSION:2.0
METHOD:PUBLISH
BEGIN:VEVENT
UID:4320450:Event:49359
DTSTAMP:20260425T191324Z
SUMMARY:Free Intro to Improv Workshop with Rachel Semigran
DESCRIPTION:This two hour introductory workshop gives cautious studen
 ts the chance to “try before you buy”, by sampling some of the fu
 n things you'll do in an 8 week improv course at PHIT. You'll learn th
 e core improv concept of \"agreement\", how to create characters from
  nothing, and you'll dip your toes into improvised scenework.\nThis cl
 ass is perfect for people of all experience levels. You do not need to
  have prior experience or be an actor / comedian. PHIT has students fr
 om all walks of life and all ages. We have people that are looking to 
 make a go of improvising, but we have also had students that were just
  looking to meet new people, improv public speaking confidence, try so
 mething new, or simply have fun for two hours. There is no commitment 
 here to register for a full class, only come in ready to have a good t
 ime. MUST REGISTER AT LINK BELOW!\n\nFor more information visit http:/
 /phillytodo.com/events/free-intro-to-improv-workshop-with-rachel-semig
 ran
DTSTART:20170405T230000Z
DTEND:20170406T010000Z
CATEGORIES:free, workshop, class, improv, date
LOCATION:PHIT Comedy @ the Adrienne Theater
WEBSITE:https://phitcomedy-trainingcenter.ticketleap.com/2017-04-05-fr
 ee-intro-to-improv-workshop/details
URL:https://phitcomedy-trainingcenter.ticketleap.com/2017-04-05-free-i
 ntro-to-improv-workshop/details
CONTACT:
ORGANIZER:PHIT Comedy
ATTACH;FMTTYPE="image/jpeg":http://storage.ning.com/topology/rest/1.0/
 file/get/3055001822?profile=original
ATTENDEE;ROLE=REQ-PARTICIPANT;PARTSTAT=ACCEPTED;RSVP=TRUE;CN="Philly I
 mprov Theater":http://phillytodo.com/profile/MikeMarbach
END:VEVENT
END:VCALENDAR
