BEGIN:VCALENDAR
PRODID:NingEventWidget-v1
VERSION:2.0
METHOD:PUBLISH
BEGIN:VEVENT
UID:4320450:Event:35562
DTSTAMP:20260425T173647Z
SUMMARY:FREE Intro to Improv Workshop at PHIT!
DESCRIPTION:FREE Intro to Improv: Students will learn the basic impro
 v concept of “Yes, and..” and discover how much fun they could hav
 e taking a comedy class at PHIT! This two-hour workshop give a great s
 ampling of some of the things you can expect to expand on during a ful
 l course, giving cautious students the chance to “try before they bu
 y” and easing you into improv by offering you a chance to enjoy some
  low-commitment fun.\nPLEASE REGISTER BY CLICKING ON WEBSITE LINK\n\nF
 or more information visit http://phillytodo.com/events/free-intro-to-i
 mprov-workshop-at-phit-3
DTSTART:20140312T230000Z
DTEND:20140313T010000Z
CATEGORIES:class, workshop
LOCATION:Philly Improv Theater
WEBSITE:http://phillyimprovtheater.com/classes/improv-comedy/march-201
 4-free-improv-workshop-with-bobby-lang/
URL:http://phillyimprovtheater.com/classes/improv-comedy/march-2014-fr
 ee-improv-workshop-with-bobby-lang/
CONTACT:267-233-1556
ORGANIZER;CN="Philly Improv Theater":http://phillytodo.com/profile/Mik
 eMarbach
ATTACH;FMTTYPE="image/jpeg":http://storage.ning.com/topology/rest/1.0/
 file/get/3054968616?profile=original
ATTENDEE;ROLE=REQ-PARTICIPANT;PARTSTAT=ACCEPTED;RSVP=TRUE;CN="Philly I
 mprov Theater":http://phillytodo.com/profile/MikeMarbach
END:VEVENT
END:VCALENDAR
