BEGIN:VCALENDAR
PRODID:NingEventWidget-v1
VERSION:2.0
METHOD:PUBLISH
BEGIN:VEVENT
UID:4320450:Event:56007
DTSTAMP:20260425T131301Z
SUMMARY:Free Indoor Antique &amp; Vintage Market - Indoor at the Kimme
 l Center
DESCRIPTION:Vendors will be offering an array of antique furniture, co
 llectibles, vintage jewelry and clothing, textiles, artwork and more. 
 Admission is free.\n\nFor more information visit http://phillytodo.com
 /events/free-indoor-antique-amp-vintage-market-indoor-at-the-kimmel
DTSTART:20180825T120000Z
DTEND:20180825T200000Z
CATEGORIES:antique, "&amp", vintage, market
LOCATION:Kimmel Center
WEBSITE:http://philafleamarkets.org
URL:http://philafleamarkets.org
CONTACT:215-625-3532
ORGANIZER;CN="Phila Flea Markets":http://phillytodo.com/profile/PhilaF
 leaMarkets
ATTACH;FMTTYPE="image/jpeg":
ATTENDEE;ROLE=REQ-PARTICIPANT;PARTSTAT=ACCEPTED;RSVP=TRUE;CN="Phila Fl
 ea Markets":http://phillytodo.com/profile/PhilaFleaMarkets
END:VEVENT
END:VCALENDAR
