BEGIN:VCALENDAR
PRODID:NingEventWidget-v1
VERSION:2.0
METHOD:PUBLISH
BEGIN:VEVENT
UID:4320450:Event:35695
DTSTAMP:20260425T125755Z
SUMMARY:FREE Improv Comedy: The SHAM!
DESCRIPTION:Sunday nights are SUPER FREE SUNDAYS thanks to PHIT! Bring
  all your friends for the cheapest night of laughs you'll get anywhere
 .\nWhat do you get when you put together some of Philly's best improvi
 sers, a spinning wheel of improv styles, and an eager audience? You ge
 t The SHAM!Which improv format will it be? Slacker? Harold? Armando? M
 onoscene?Join us to see which form our team will perform tonight and l
 augh through the whole thing!\n\nFor more information visit http://phi
 llytodo.com/events/free-improv-comedy-the-sham
DTSTART:20140303T013000Z
DTEND:20140303T023000Z
CATEGORIES:comedy, theater, improv
LOCATION:Philly Improv Theater (PHIT)
WEBSITE:http://www.phillyimprovtheater.com
URL:http://www.phillyimprovtheater.com
CONTACT:267-233-1556
ORGANIZER;CN="Philly Improv Theater":http://phillytodo.com/profile/Mik
 eMarbach
ATTACH;FMTTYPE="image/jpeg":http://storage.ning.com/topology/rest/1.0/
 file/get/3054973118?profile=original
ATTENDEE;ROLE=REQ-PARTICIPANT;PARTSTAT=ACCEPTED;RSVP=TRUE;CN="Philly I
 mprov Theater":http://phillytodo.com/profile/MikeMarbach
END:VEVENT
END:VCALENDAR
