BEGIN:VCALENDAR
PRODID:NingEventWidget-v1
VERSION:2.0
METHOD:PUBLISH
BEGIN:VEVENT
UID:4320450:Event:55057
DTSTAMP:20260425T130944Z
SUMMARY:Free Horticultural Tour of Rittenhouse Square
DESCRIPTION:A family friendly horticultural walking tour is scheduled 
 for Sunday, April 29th from 10:00am to 11:00am. Join the Friends of R
 ittenhouse Square and Master Gardener Guina Hammond for a horticultura
 l stroll through Rittenhouse Square Park as we explore its past, prese
 nt and future. Learn tree identification, why it’s important to plan
 t native species, and how you can help maintain this beautiful oasis. 
 Thank you to Penn State Master Gardeners for all of their help in orga
 nizing this event. \n\nFor more information visit http://phillytodo.c
 om/events/free-horticultural-tour-of-rittenhouse-square
DTSTART:20180429T140000Z
DTEND:20180429T150000Z
CATEGORIES:community, event
LOCATION:Rittenhouse Square Park
WEBSITE:http://friendsofrittenhouse.org/
URL:http://friendsofrittenhouse.org/
CONTACT:
ORGANIZER:Friends of Rittenhouse
ATTACH;FMTTYPE="image/jpeg":http://storage.ning.com/topology/rest/1.0/
 file/get/3055010882?profile=original
ATTENDEE;ROLE=REQ-PARTICIPANT;PARTSTAT=ACCEPTED;RSVP=TRUE;CN=CashmanAs
 soc:http://phillytodo.com/profile/CashmanAssoc
END:VEVENT
END:VCALENDAR
