BEGIN:VCALENDAR
PRODID:NingEventWidget-v1
VERSION:2.0
METHOD:PUBLISH
BEGIN:VEVENT
UID:4320450:Event:37031
DTSTAMP:20260425T150555Z
SUMMARY:Free Gospel Concert - AIDS Education Month
DESCRIPTION:Lift your spirits through an evening of song and togethern
 ess with Philadelphia FIGHT Gospel Choir and gospel chart-topper Marvi
 n Sapp. Join us at Mt Airy Church of God in Christ (6401 Ogontz Avenue
 ) on Sunday, June 29, 2014. No registration or ticket required. The co
 ncert is one of many free events during June for AIDS Education Month 
 by Philadephia FIGHT. \n\nFor more information visit http://phillytod
 o.com/events/free-gospel-concert-aids-education-month
DTSTART:20140629T210000Z
DTEND:20140630T000000Z
CATEGORIES:gospel, concert
LOCATION:Mt Airy Church of God in Christ
WEBSITE:http://www.aidseducationmonth.org/events/gospel-concert-2014/
URL:http://www.aidseducationmonth.org/events/gospel-concert-2014/
CONTACT:215-985-4448
ORGANIZER:Philadelphia FIGHT
ATTACH;FMTTYPE="image/jpeg":http://storage.ning.com/topology/rest/1.0/
 file/get/3054975385?profile=original
ATTENDEE;ROLE=REQ-PARTICIPANT;PARTSTAT=ACCEPTED;RSVP=TRUE;CN="Aversa P
 R & Events":http://phillytodo.com/profile/KoryAversa277
END:VEVENT
END:VCALENDAR
