BEGIN:VCALENDAR
PRODID:NingEventWidget-v1
VERSION:2.0
METHOD:PUBLISH
BEGIN:VEVENT
UID:4320450:Event:32384
DTSTAMP:20260425T124843Z
SUMMARY:Free For All
DESCRIPTION:Free For All is a weekly stand-up comedy showcase at Rembr
 andt’s Restaurant in Philadelphia (741 N. 23rd Street). Every Wednes
 day at 8pm  hosts Aaron Hertzog and Alison Zeidman bring the best sta
 nd-ups in Philadelphia to the stage for a free comedy show unlike any 
 other in the city.\n\nThis week's line-up:\nDoogie Horner\nTommy Pope\
 nJohn McKeever\nPat House\nDavid James\nMary Radzinski\nDarryl Charles
 \nPat Barker\nCarolyn Busa\nJoey Dougherty\n\nWith guest from New York
 :\nIan Fidance\nTravis Irvine\n\nFor more information visit http://phi
 llytodo.com/events/free-for-all
DTSTART:20130606T000000Z
DTEND:20130606T020000Z
CATEGORIES:stand-up, comedy
LOCATION:Rembrandt's Restaurant & Bar
WEBSITE:http://freeforallcomedy.wordpress.com
URL:http://freeforallcomedy.wordpress.com
CONTACT:
ORGANIZER;CN="Free For All":http://phillytodo.com/profile/FreeForAll
ATTACH;FMTTYPE="image/jpeg":http://storage.ning.com/topology/rest/1.0/
 file/get/3054965643?profile=original
ATTENDEE;ROLE=REQ-PARTICIPANT;PARTSTAT=ACCEPTED;RSVP=TRUE;CN="Free For
  All":http://phillytodo.com/profile/FreeForAll
END:VEVENT
END:VCALENDAR
